BEGIN:VCALENDAR
VERSION:2.0
PRODID:-//Homemade Author: Writing for Healing and Self-Discovery - ECPv6.15.20//NONSGML v1.0//EN
CALSCALE:GREGORIAN
METHOD:PUBLISH
X-WR-CALNAME:Homemade Author: Writing for Healing and Self-Discovery
X-ORIGINAL-URL:https://homemadeauthor.com
X-WR-CALDESC:Events for Homemade Author: Writing for Healing and Self-Discovery
REFRESH-INTERVAL;VALUE=DURATION:PT1H
X-Robots-Tag:noindex
X-PUBLISHED-TTL:PT1H
BEGIN:VTIMEZONE
TZID:America/New_York
BEGIN:DAYLIGHT
TZOFFSETFROM:-0500
TZOFFSETTO:-0400
TZNAME:EDT
DTSTART:20250309T070000
END:DAYLIGHT
BEGIN:STANDARD
TZOFFSETFROM:-0400
TZOFFSETTO:-0500
TZNAME:EST
DTSTART:20251102T060000
END:STANDARD
BEGIN:DAYLIGHT
TZOFFSETFROM:-0500
TZOFFSETTO:-0400
TZNAME:EDT
DTSTART:20260308T070000
END:DAYLIGHT
BEGIN:STANDARD
TZOFFSETFROM:-0400
TZOFFSETTO:-0500
TZNAME:EST
DTSTART:20261101T060000
END:STANDARD
BEGIN:DAYLIGHT
TZOFFSETFROM:-0500
TZOFFSETTO:-0400
TZNAME:EDT
DTSTART:20270314T070000
END:DAYLIGHT
BEGIN:STANDARD
TZOFFSETFROM:-0400
TZOFFSETTO:-0500
TZNAME:EST
DTSTART:20271107T060000
END:STANDARD
END:VTIMEZONE
BEGIN:VEVENT
DTSTART;TZID=America/New_York:20260407T183000
DTEND;TZID=America/New_York:20260407T200000
DTSTAMP:20260423T180258
CREATED:20260405T012955Z
LAST-MODIFIED:20260405T013045Z
UID:1767-1775586600-1775592000@homemadeauthor.com
SUMMARY:NAMI Oshkosh Spoken Word and Open Mic Night
DESCRIPTION:Join me on April 7th at 6:30 p.m. for the NAMI Oshkosh Spoken Word and Open Mic Night. It’s a positive space to express your thoughts and emotions through words\, or to gain new perspectives on life from some of the most creative voices.
URL:https://homemadeauthor.com/event/nami-oshkosh-spoken-word-and-open-mic-night/
LOCATION:NAMI Oshkosh\, 525 N. Main\, Oshkosh\, WI
END:VEVENT
BEGIN:VEVENT
DTSTART;VALUE=DATE:20260327
DTEND;VALUE=DATE:20260328
DTSTAMP:20260423T180258
CREATED:20260110T231802Z
LAST-MODIFIED:20260110T231802Z
UID:1600-1774569600-1774655999@homemadeauthor.com
SUMMARY:Happy Birthday G!
DESCRIPTION:🎂 Another year of life. So grateful 🫶🏼 🎉
URL:https://homemadeauthor.com/event/happy-birthday-g/
LOCATION:WI
END:VEVENT
BEGIN:VEVENT
DTSTART;TZID=America/New_York:20260320T190000
DTEND;TZID=America/New_York:20260320T210000
DTSTAMP:20260423T180258
CREATED:20260218T013056Z
LAST-MODIFIED:20260218T013056Z
UID:1742-1774033200-1774040400@homemadeauthor.com
SUMMARY:A Celebration of Renewal - Open Mic Night
DESCRIPTION:This is shaping up to be a great event. I will be sharing some new work and look forward to seeing you there.
URL:https://homemadeauthor.com/event/a-celebration-of-renewal-open-mic-night/
LOCATION:Spillman Library\, 719 Wisconsin Ave\, North Fond du Lac\, WI\, 54937\, United States
END:VEVENT
BEGIN:VEVENT
DTSTART;TZID=America/New_York:20260311T183000
DTEND;TZID=America/New_York:20260311T203000
DTSTAMP:20260423T180258
CREATED:20260218T014511Z
LAST-MODIFIED:20260218T014511Z
UID:1747-1773253800-1773261000@homemadeauthor.com
SUMMARY:The Healing Mic
DESCRIPTION:This is a space to share words from your\njourney and be witnessed. All voices\, skill\nlevels\, and lived experiences are welcome. \nCome to share or come to listen.
URL:https://homemadeauthor.com/event/the-healing-mic/
LOCATION:Creating Space Healing Arts Community\, 1231 S. Webster Ave.\, Green Bay\, WI\, 54301
END:VEVENT
BEGIN:VEVENT
DTSTART;TZID=America/New_York:20260303T183000
DTEND;TZID=America/New_York:20260303T200000
DTSTAMP:20260423T180258
CREATED:20260303T131947Z
LAST-MODIFIED:20260303T131947Z
UID:1754-1772562600-1772568000@homemadeauthor.com
SUMMARY:NAMI Oshkosh Open Mic
DESCRIPTION:The perfect place to open up\, meet fellow creatives\, and share a piece of who you are with the world. Open to the public—an immersive experience in healthy learning and deeper understanding of those around us.
URL:https://homemadeauthor.com/event/nami-oshkosh-open-mic-2/
LOCATION:NAMI Oshkosh\, 525 N. Main\, Oshkosh\, WI
END:VEVENT
BEGIN:VEVENT
DTSTART;TZID=America/New_York:20260224T190000
DTEND;TZID=America/New_York:20260224T210000
DTSTAMP:20260423T180258
CREATED:20260110T231313Z
LAST-MODIFIED:20260110T231313Z
UID:1596-1771959600-1771966800@homemadeauthor.com
SUMMARY:Fond du Lac Area Writers
DESCRIPTION:Fond du Lac Area Writers meet at Kettle Moraine Park Technical College Room 0209 7PM 235 N. National Ave
URL:https://homemadeauthor.com/event/fond-du-lac-area-writers/
LOCATION:WI
END:VEVENT
BEGIN:VEVENT
DTSTART;TZID=America/New_York:20260212T190000
DTEND;TZID=America/New_York:20260212T210000
DTSTAMP:20260423T180258
CREATED:20260110T231135Z
LAST-MODIFIED:20260110T231135Z
UID:1594-1770922800-1770930000@homemadeauthor.com
SUMMARY:Wordsmiths Writers of North Fond du Lac
DESCRIPTION:Wordsmiths Writers North Fond du Lac\, Spillman Library 719 Wisconsin Ave North Fond du Lac 7PM
URL:https://homemadeauthor.com/event/wordsmiths-writers-of-north-fond-du-lac/
LOCATION:WI
END:VEVENT
BEGIN:VEVENT
DTSTART;TZID=America/New_York:20260203T180000
DTEND;TZID=America/New_York:20260203T200000
DTSTAMP:20260423T180258
CREATED:20260110T230841Z
LAST-MODIFIED:20260110T230841Z
UID:1591-1770141600-1770148800@homemadeauthor.com
SUMMARY:NAMI Oshkosh Open Mic
DESCRIPTION:Enjoy a warm welcome and enjoy the perspectives of local voices. NAMI Oshkosh Open Mic 525 N. Main 6PM
URL:https://homemadeauthor.com/event/nami-oshkosh-open-mic/
LOCATION:NAMI Oshkosh\, 525 N. Main\, Oshkosh\, WI
END:VEVENT
BEGIN:VEVENT
DTSTART;VALUE=DATE:20260128
DTEND;VALUE=DATE:20260129
DTSTAMP:20260423T180258
CREATED:20260110T230550Z
LAST-MODIFIED:20260110T230550Z
UID:1589-1769558400-1769644799@homemadeauthor.com
SUMMARY:Versed Radio Episode
DESCRIPTION:Visiting good friend\, James Hamilton in Rockford Ill to record an episode of Versed Radio.
URL:https://homemadeauthor.com/event/versed-radio-episode/
LOCATION:WI
END:VEVENT
END:VCALENDAR