BEGIN:VCALENDAR
VERSION:2.0
PRODID:-//Homemade Author: Writing for Healing and Self-Discovery - ECPv6.15.20//NONSGML v1.0//EN
CALSCALE:GREGORIAN
METHOD:PUBLISH
X-WR-CALNAME:Homemade Author: Writing for Healing and Self-Discovery
X-ORIGINAL-URL:https://homemadeauthor.com
X-WR-CALDESC:Events for Homemade Author: Writing for Healing and Self-Discovery
REFRESH-INTERVAL;VALUE=DURATION:PT1H
X-Robots-Tag:noindex
X-PUBLISHED-TTL:PT1H
BEGIN:VTIMEZONE
TZID:America/New_York
BEGIN:DAYLIGHT
TZOFFSETFROM:-0500
TZOFFSETTO:-0400
TZNAME:EDT
DTSTART:20250309T070000
END:DAYLIGHT
BEGIN:STANDARD
TZOFFSETFROM:-0400
TZOFFSETTO:-0500
TZNAME:EST
DTSTART:20251102T060000
END:STANDARD
BEGIN:DAYLIGHT
TZOFFSETFROM:-0500
TZOFFSETTO:-0400
TZNAME:EDT
DTSTART:20260308T070000
END:DAYLIGHT
BEGIN:STANDARD
TZOFFSETFROM:-0400
TZOFFSETTO:-0500
TZNAME:EST
DTSTART:20261101T060000
END:STANDARD
BEGIN:DAYLIGHT
TZOFFSETFROM:-0500
TZOFFSETTO:-0400
TZNAME:EDT
DTSTART:20270314T070000
END:DAYLIGHT
BEGIN:STANDARD
TZOFFSETFROM:-0400
TZOFFSETTO:-0500
TZNAME:EST
DTSTART:20271107T060000
END:STANDARD
END:VTIMEZONE
BEGIN:VEVENT
DTSTART;VALUE=DATE:20260501
DTEND;VALUE=DATE:20260503
DTSTAMP:20260423T142251
CREATED:20260110T232804Z
LAST-MODIFIED:20260316T171005Z
UID:1602-1777593600-1777766399@homemadeauthor.com
SUMMARY:2026 Lakefly Writer's Conference Keynote Speaker
DESCRIPTION:Keynote Speaker Lakefly Writers Conference – The Universal Truth of Shaping Your Writing Life. To be held at the Oshkosh Convention Center 1 North Main Street\, Oshkosh\, WI \nThere is more than meets the eye. Don’t miss this one! \nRegister for the Lakefly Writer’s Conference \n 
URL:https://homemadeauthor.com/event/2026-lakefly-writers-conference-keynote-speaker/
LOCATION:WI
ORGANIZER;CN="Oshkosh Public Library":MAILTO:LakeflyWriters@gmail.com
END:VEVENT
END:VCALENDAR