BEGIN:VCALENDAR
VERSION:2.0
PRODID:-//Homemade Author: Writing for Healing and Self-Discovery - ECPv6.15.20//NONSGML v1.0//EN
CALSCALE:GREGORIAN
METHOD:PUBLISH
X-WR-CALNAME:Homemade Author: Writing for Healing and Self-Discovery
X-ORIGINAL-URL:https://homemadeauthor.com
X-WR-CALDESC:Events for Homemade Author: Writing for Healing and Self-Discovery
REFRESH-INTERVAL;VALUE=DURATION:PT1H
X-Robots-Tag:noindex
X-PUBLISHED-TTL:PT1H
BEGIN:VTIMEZONE
TZID:America/New_York
BEGIN:DAYLIGHT
TZOFFSETFROM:-0500
TZOFFSETTO:-0400
TZNAME:EDT
DTSTART:20250309T070000
END:DAYLIGHT
BEGIN:STANDARD
TZOFFSETFROM:-0400
TZOFFSETTO:-0500
TZNAME:EST
DTSTART:20251102T060000
END:STANDARD
BEGIN:DAYLIGHT
TZOFFSETFROM:-0500
TZOFFSETTO:-0400
TZNAME:EDT
DTSTART:20260308T070000
END:DAYLIGHT
BEGIN:STANDARD
TZOFFSETFROM:-0400
TZOFFSETTO:-0500
TZNAME:EST
DTSTART:20261101T060000
END:STANDARD
BEGIN:DAYLIGHT
TZOFFSETFROM:-0500
TZOFFSETTO:-0400
TZNAME:EDT
DTSTART:20270314T070000
END:DAYLIGHT
BEGIN:STANDARD
TZOFFSETFROM:-0400
TZOFFSETTO:-0500
TZNAME:EST
DTSTART:20271107T060000
END:STANDARD
END:VTIMEZONE
BEGIN:VEVENT
DTSTART;TZID=America/New_York:20260320T190000
DTEND;TZID=America/New_York:20260320T210000
DTSTAMP:20260423T153404
CREATED:20260218T013056Z
LAST-MODIFIED:20260218T013056Z
UID:1742-1774033200-1774040400@homemadeauthor.com
SUMMARY:A Celebration of Renewal - Open Mic Night
DESCRIPTION:This is shaping up to be a great event. I will be sharing some new work and look forward to seeing you there.
URL:https://homemadeauthor.com/event/a-celebration-of-renewal-open-mic-night/
LOCATION:Spillman Library\, 719 Wisconsin Ave\, North Fond du Lac\, WI\, 54937\, United States
END:VEVENT
END:VCALENDAR