BEGIN:VCALENDAR
VERSION:2.0
PRODID:-//Homemade Author: Writing for Healing and Self-Discovery - ECPv6.15.20//NONSGML v1.0//EN
CALSCALE:GREGORIAN
METHOD:PUBLISH
X-ORIGINAL-URL:https://homemadeauthor.com
X-WR-CALDESC:Events for Homemade Author: Writing for Healing and Self-Discovery
REFRESH-INTERVAL;VALUE=DURATION:PT1H
X-Robots-Tag:noindex
X-PUBLISHED-TTL:PT1H
BEGIN:VTIMEZONE
TZID:America/New_York
BEGIN:DAYLIGHT
TZOFFSETFROM:-0500
TZOFFSETTO:-0400
TZNAME:EDT
DTSTART:20250309T070000
END:DAYLIGHT
BEGIN:STANDARD
TZOFFSETFROM:-0400
TZOFFSETTO:-0500
TZNAME:EST
DTSTART:20251102T060000
END:STANDARD
BEGIN:DAYLIGHT
TZOFFSETFROM:-0500
TZOFFSETTO:-0400
TZNAME:EDT
DTSTART:20260308T070000
END:DAYLIGHT
BEGIN:STANDARD
TZOFFSETFROM:-0400
TZOFFSETTO:-0500
TZNAME:EST
DTSTART:20261101T060000
END:STANDARD
BEGIN:DAYLIGHT
TZOFFSETFROM:-0500
TZOFFSETTO:-0400
TZNAME:EDT
DTSTART:20270314T070000
END:DAYLIGHT
BEGIN:STANDARD
TZOFFSETFROM:-0400
TZOFFSETTO:-0500
TZNAME:EST
DTSTART:20271107T060000
END:STANDARD
END:VTIMEZONE
BEGIN:VEVENT
DTSTART;TZID=America/New_York:20260311T183000
DTEND;TZID=America/New_York:20260311T203000
DTSTAMP:20260423T153827
CREATED:20260218T014511Z
LAST-MODIFIED:20260218T014511Z
UID:1747-1773253800-1773261000@homemadeauthor.com
SUMMARY:The Healing Mic
DESCRIPTION:This is a space to share words from your\njourney and be witnessed. All voices\, skill\nlevels\, and lived experiences are welcome. \nCome to share or come to listen.
URL:https://homemadeauthor.com/event/the-healing-mic/
LOCATION:Creating Space Healing Arts Community\, 1231 S. Webster Ave.\, Green Bay\, WI\, 54301
END:VEVENT
END:VCALENDAR